{
 "currentVersion": 10.31,
 "serviceDescription": "Mapa Base híbrido com ortofotomosaico de 2023 mais camadas vetoriais.",
 "mapName": "Layers",
 "description": "",
 "copyrightText": "PMV - SEMFA/GEO, © Ortomosaico 2023",
 "supportsDynamicLayers": false,
 "layers": [
  {
   "id": 0,
   "name": "1K",
   "parentLayerId": -1,
   "defaultVisibility": true,
   "subLayerIds": [
    1,
    2,
    3,
    4
   ],
   "minScale": 1000,
   "maxScale": 0
  },
  {
   "id": 1,
   "name": "Logradouros",
   "parentLayerId": 0,
   "defaultVisibility": true,
   "subLayerIds": null,
   "minScale": 0,
   "maxScale": 0
  },
  {
   "id": 2,
   "name": "Logradouros",
   "parentLayerId": 0,
   "defaultVisibility": true,
   "subLayerIds": null,
   "minScale": 0,
   "maxScale": 0
  },
  {
   "id": 3,
   "name": "Praças ",
   "parentLayerId": 0,
   "defaultVisibility": true,
   "subLayerIds": null,
   "minScale": 0,
   "maxScale": 0
  },
  {
   "id": 4,
   "name": "Bairros",
   "parentLayerId": 0,
   "defaultVisibility": true,
   "subLayerIds": null,
   "minScale": 0,
   "maxScale": 0
  },
  {
   "id": 5,
   "name": "2K",
   "parentLayerId": -1,
   "defaultVisibility": true,
   "subLayerIds": [
    6,
    7,
    8,
    9
   ],
   "minScale": 2000,
   "maxScale": 1001
  },
  {
   "id": 6,
   "name": "Logradouros",
   "parentLayerId": 5,
   "defaultVisibility": true,
   "subLayerIds": null,
   "minScale": 0,
   "maxScale": 0
  },
  {
   "id": 7,
   "name": "Logradouros",
   "parentLayerId": 5,
   "defaultVisibility": true,
   "subLayerIds": null,
   "minScale": 0,
   "maxScale": 0
  },
  {
   "id": 8,
   "name": "Praças ",
   "parentLayerId": 5,
   "defaultVisibility": true,
   "subLayerIds": null,
   "minScale": 0,
   "maxScale": 0
  },
  {
   "id": 9,
   "name": "Bairros",
   "parentLayerId": 5,
   "defaultVisibility": true,
   "subLayerIds": null,
   "minScale": 0,
   "maxScale": 0
  },
  {
   "id": 10,
   "name": "4K",
   "parentLayerId": -1,
   "defaultVisibility": true,
   "subLayerIds": [
    11,
    12,
    13,
    14
   ],
   "minScale": 4000,
   "maxScale": 2001
  },
  {
   "id": 11,
   "name": "Logradouros",
   "parentLayerId": 10,
   "defaultVisibility": true,
   "subLayerIds": null,
   "minScale": 0,
   "maxScale": 0
  },
  {
   "id": 12,
   "name": "Logradouros",
   "parentLayerId": 10,
   "defaultVisibility": true,
   "subLayerIds": null,
   "minScale": 0,
   "maxScale": 0
  },
  {
   "id": 13,
   "name": "Praças ",
   "parentLayerId": 10,
   "defaultVisibility": true,
   "subLayerIds": null,
   "minScale": 0,
   "maxScale": 0
  },
  {
   "id": 14,
   "name": "Bairros",
   "parentLayerId": 10,
   "defaultVisibility": true,
   "subLayerIds": null,
   "minScale": 0,
   "maxScale": 0
  },
  {
   "id": 15,
   "name": "8K",
   "parentLayerId": -1,
   "defaultVisibility": true,
   "subLayerIds": [
    16,
    17,
    18
   ],
   "minScale": 8000,
   "maxScale": 4001
  },
  {
   "id": 16,
   "name": "Logradouros",
   "parentLayerId": 15,
   "defaultVisibility": true,
   "subLayerIds": null,
   "minScale": 0,
   "maxScale": 0
  },
  {
   "id": 17,
   "name": "Logradouros",
   "parentLayerId": 15,
   "defaultVisibility": true,
   "subLayerIds": null,
   "minScale": 0,
   "maxScale": 0
  },
  {
   "id": 18,
   "name": "Bairros",
   "parentLayerId": 15,
   "defaultVisibility": true,
   "subLayerIds": null,
   "minScale": 0,
   "maxScale": 0
  },
  {
   "id": 19,
   "name": "16K",
   "parentLayerId": -1,
   "defaultVisibility": true,
   "subLayerIds": [
    20,
    21
   ],
   "minScale": 16000,
   "maxScale": 8001
  },
  {
   "id": 20,
   "name": "Logradouros",
   "parentLayerId": 19,
   "defaultVisibility": true,
   "subLayerIds": null,
   "minScale": 0,
   "maxScale": 0
  },
  {
   "id": 21,
   "name": "Bairros",
   "parentLayerId": 19,
   "defaultVisibility": true,
   "subLayerIds": null,
   "minScale": 0,
   "maxScale": 0
  },
  {
   "id": 22,
   "name": "32K",
   "parentLayerId": -1,
   "defaultVisibility": true,
   "subLayerIds": [
    23,
    24
   ],
   "minScale": 32000,
   "maxScale": 16001
  },
  {
   "id": 23,
   "name": "Logradouros",
   "parentLayerId": 22,
   "defaultVisibility": true,
   "subLayerIds": null,
   "minScale": 0,
   "maxScale": 0
  },
  {
   "id": 24,
   "name": "Bairros",
   "parentLayerId": 22,
   "defaultVisibility": true,
   "subLayerIds": null,
   "minScale": 0,
   "maxScale": 0
  },
  {
   "id": 25,
   "name": "64K",
   "parentLayerId": -1,
   "defaultVisibility": true,
   "subLayerIds": [
    26,
    27
   ],
   "minScale": 64000,
   "maxScale": 32001
  },
  {
   "id": 26,
   "name": "Logradouros",
   "parentLayerId": 25,
   "defaultVisibility": true,
   "subLayerIds": null,
   "minScale": 0,
   "maxScale": 0
  },
  {
   "id": 27,
   "name": "Bairros",
   "parentLayerId": 25,
   "defaultVisibility": true,
   "subLayerIds": null,
   "minScale": 0,
   "maxScale": 0
  },
  {
   "id": 28,
   "name": "125K",
   "parentLayerId": -1,
   "defaultVisibility": true,
   "subLayerIds": [
    29,
    30
   ],
   "minScale": 125000,
   "maxScale": 64001
  },
  {
   "id": 29,
   "name": "Logradouros",
   "parentLayerId": 28,
   "defaultVisibility": true,
   "subLayerIds": null,
   "minScale": 0,
   "maxScale": 0
  },
  {
   "id": 30,
   "name": "Bairros",
   "parentLayerId": 28,
   "defaultVisibility": true,
   "subLayerIds": null,
   "minScale": 0,
   "maxScale": 0
  },
  {
   "id": 31,
   "name": "Vitoria_Mosaico.tif",
   "parentLayerId": -1,
   "defaultVisibility": true,
   "subLayerIds": null,
   "minScale": 0,
   "maxScale": 0
  }
 ],
 "tables": [],
 "spatialReference": {
  "wkid": 31999,
  "latestWkid": 31999
 },
 "singleFusedMapCache": true,
 "tileInfo": {
  "rows": 256,
  "cols": 256,
  "dpi": 96,
  "format": "PNG8",
  "compressionQuality": 0,
  "origin": {
   "x": -5120900,
   "y": 19998100
  },
  "spatialReference": {
   "wkid": 31999,
   "latestWkid": 31999
  },
  "lods": [
   {
    "level": 0,
    "resolution": 33.0729828126323,
    "scale": 125000
   },
   {
    "level": 1,
    "resolution": 16.933367200067735,
    "scale": 64000
   },
   {
    "level": 2,
    "resolution": 8.466683600033868,
    "scale": 32000
   },
   {
    "level": 3,
    "resolution": 4.233341800016934,
    "scale": 16000
   },
   {
    "level": 4,
    "resolution": 2.116670900008467,
    "scale": 8000
   },
   {
    "level": 5,
    "resolution": 1.0583354500042335,
    "scale": 4000
   },
   {
    "level": 6,
    "resolution": 0.5291677250021167,
    "scale": 2000
   },
   {
    "level": 7,
    "resolution": 0.26458386250105836,
    "scale": 1000
   },
   {
    "level": 8,
    "resolution": 0.13229193125052918,
    "scale": 500
   }
  ]
 },
 "initialExtent": {
  "xmin": 364293.38429891877,
  "ymin": 7756357.936055957,
  "xmax": 365309.38633092283,
  "ymax": 7756951.66224341,
  "spatialReference": {
   "wkid": 31999,
   "latestWkid": 31999
  }
 },
 "fullExtent": {
  "xmin": 347387.4051991449,
  "ymin": 7745352.9607476005,
  "xmax": 384329.92700085515,
  "ymax": 7768371.7567851925,
  "spatialReference": {
   "wkid": 31999,
   "latestWkid": 31999
  }
 },
 "minScale": 125000,
 "maxScale": 500,
 "units": "esriMeters",
 "supportedImageFormatTypes": "PNG32,PNG24,PNG,JPG,DIB,TIFF,EMF,PS,PDF,GIF,SVG,SVGZ,BMP",
 "documentInfo": {
  "Title": "Mapa Base Imagem",
  "Author": "PMV - SEMFA/GEO, © Ortomosaico 2023",
  "Comments": "Mapa Base híbrido com ortofotomosaico de 2023 mais camadas vetoriais.",
  "Subject": "Mapa Base híbrido com ortofotomosaico de 2023 mais camadas vetoriais.",
  "Category": "",
  "AntialiasingMode": "Normal",
  "TextAntialiasingMode": "Force",
  "Keywords": "Mapa Base,BaseMap,Cache,MapaBase"
 },
 "capabilities": "Map,Query,Data",
 "supportedQueryFormats": "JSON, AMF",
 "exportTilesAllowed": false,
 "maxRecordCount": 1000,
 "maxImageHeight": 4096,
 "maxImageWidth": 4096,
 "supportedExtensions": "WMSServer"
}
