{
 "currentVersion": 10.31,
 "serviceDescription": "Mapa Base para ser utilizado nas aplicações do Ponto Vitória.",
 "mapName": "Layers",
 "description": "",
 "copyrightText": "SEMFA/GEO",
 "supportsDynamicLayers": false,
 "layers": [
  {
   "id": 0,
   "name": "2K",
   "parentLayerId": -1,
   "defaultVisibility": true,
   "subLayerIds": [
    1,
    2,
    3,
    4,
    5,
    6,
    7,
    8,
    9,
    10,
    11,
    12,
    13
   ],
   "minScale": 2000,
   "maxScale": 0
  },
  {
   "id": 1,
   "name": "Terminal Rodoviário/Aquaviário",
   "parentLayerId": 0,
   "defaultVisibility": true,
   "subLayerIds": null,
   "minScale": 0,
   "maxScale": 0
  },
  {
   "id": 2,
   "name": "Saúde",
   "parentLayerId": 0,
   "defaultVisibility": true,
   "subLayerIds": null,
   "minScale": 0,
   "maxScale": 0
  },
  {
   "id": 3,
   "name": "Educação",
   "parentLayerId": 0,
   "defaultVisibility": true,
   "subLayerIds": null,
   "minScale": 0,
   "maxScale": 0
  },
  {
   "id": 4,
   "name": "Aeroporto",
   "parentLayerId": 0,
   "defaultVisibility": true,
   "subLayerIds": null,
   "minScale": 0,
   "maxScale": 0
  },
  {
   "id": 5,
   "name": "Cemitério",
   "parentLayerId": 0,
   "defaultVisibility": true,
   "subLayerIds": null,
   "minScale": 0,
   "maxScale": 0
  },
  {
   "id": 6,
   "name": "Atrativo turístico",
   "parentLayerId": 0,
   "defaultVisibility": true,
   "subLayerIds": null,
   "minScale": 0,
   "maxScale": 0
  },
  {
   "id": 7,
   "name": "Estrutura Viária",
   "parentLayerId": 0,
   "defaultVisibility": true,
   "subLayerIds": null,
   "minScale": 0,
   "maxScale": 0
  },
  {
   "id": 8,
   "name": "Projeto Viário ",
   "parentLayerId": 0,
   "defaultVisibility": true,
   "subLayerIds": null,
   "minScale": 0,
   "maxScale": 0
  },
  {
   "id": 9,
   "name": "Logradouros",
   "parentLayerId": 0,
   "defaultVisibility": true,
   "subLayerIds": null,
   "minScale": 0,
   "maxScale": 0
  },
  {
   "id": 10,
   "name": "Bairros",
   "parentLayerId": 0,
   "defaultVisibility": true,
   "subLayerIds": null,
   "minScale": 0,
   "maxScale": 0
  },
  {
   "id": 11,
   "name": "Praças ",
   "parentLayerId": 0,
   "defaultVisibility": true,
   "subLayerIds": null,
   "minScale": 0,
   "maxScale": 0
  },
  {
   "id": 12,
   "name": "Quadra",
   "parentLayerId": 0,
   "defaultVisibility": true,
   "subLayerIds": null,
   "minScale": 0,
   "maxScale": 0
  },
  {
   "id": 13,
   "name": "Baía e Canal ",
   "parentLayerId": 0,
   "defaultVisibility": true,
   "subLayerIds": null,
   "minScale": 0,
   "maxScale": 0
  },
  {
   "id": 14,
   "name": "4K",
   "parentLayerId": -1,
   "defaultVisibility": true,
   "subLayerIds": [
    15,
    16,
    17,
    18,
    19,
    20,
    21,
    22,
    23,
    24,
    25,
    26,
    27
   ],
   "minScale": 4000,
   "maxScale": 2001
  },
  {
   "id": 15,
   "name": "Terminal Rodoviário/Aquaviário",
   "parentLayerId": 14,
   "defaultVisibility": true,
   "subLayerIds": null,
   "minScale": 0,
   "maxScale": 0
  },
  {
   "id": 16,
   "name": "Saúde",
   "parentLayerId": 14,
   "defaultVisibility": true,
   "subLayerIds": null,
   "minScale": 0,
   "maxScale": 0
  },
  {
   "id": 17,
   "name": "Educação",
   "parentLayerId": 14,
   "defaultVisibility": true,
   "subLayerIds": null,
   "minScale": 0,
   "maxScale": 0
  },
  {
   "id": 18,
   "name": "Aeroporto",
   "parentLayerId": 14,
   "defaultVisibility": true,
   "subLayerIds": null,
   "minScale": 0,
   "maxScale": 0
  },
  {
   "id": 19,
   "name": "Cemitério",
   "parentLayerId": 14,
   "defaultVisibility": true,
   "subLayerIds": null,
   "minScale": 0,
   "maxScale": 0
  },
  {
   "id": 20,
   "name": "Atrativo turístico",
   "parentLayerId": 14,
   "defaultVisibility": true,
   "subLayerIds": null,
   "minScale": 0,
   "maxScale": 0
  },
  {
   "id": 21,
   "name": "Estrutura Viária",
   "parentLayerId": 14,
   "defaultVisibility": true,
   "subLayerIds": null,
   "minScale": 0,
   "maxScale": 0
  },
  {
   "id": 22,
   "name": "Projeto Viário ",
   "parentLayerId": 14,
   "defaultVisibility": true,
   "subLayerIds": null,
   "minScale": 0,
   "maxScale": 0
  },
  {
   "id": 23,
   "name": "Logradouros",
   "parentLayerId": 14,
   "defaultVisibility": true,
   "subLayerIds": null,
   "minScale": 0,
   "maxScale": 0
  },
  {
   "id": 24,
   "name": "Bairros",
   "parentLayerId": 14,
   "defaultVisibility": true,
   "subLayerIds": null,
   "minScale": 0,
   "maxScale": 0
  },
  {
   "id": 25,
   "name": "Praças ",
   "parentLayerId": 14,
   "defaultVisibility": true,
   "subLayerIds": null,
   "minScale": 0,
   "maxScale": 0
  },
  {
   "id": 26,
   "name": "Quadra",
   "parentLayerId": 14,
   "defaultVisibility": true,
   "subLayerIds": null,
   "minScale": 0,
   "maxScale": 0
  },
  {
   "id": 27,
   "name": "Baía e Canal ",
   "parentLayerId": 14,
   "defaultVisibility": true,
   "subLayerIds": null,
   "minScale": 0,
   "maxScale": 0
  },
  {
   "id": 28,
   "name": "8K",
   "parentLayerId": -1,
   "defaultVisibility": true,
   "subLayerIds": [
    29,
    30,
    31,
    32,
    33,
    34,
    35,
    36,
    37,
    38,
    39,
    40,
    41
   ],
   "minScale": 8000,
   "maxScale": 4001
  },
  {
   "id": 29,
   "name": "Terminal Rodoviário/Aquaviário",
   "parentLayerId": 28,
   "defaultVisibility": true,
   "subLayerIds": null,
   "minScale": 0,
   "maxScale": 0
  },
  {
   "id": 30,
   "name": "Saúde",
   "parentLayerId": 28,
   "defaultVisibility": true,
   "subLayerIds": null,
   "minScale": 0,
   "maxScale": 0
  },
  {
   "id": 31,
   "name": "Educação",
   "parentLayerId": 28,
   "defaultVisibility": true,
   "subLayerIds": null,
   "minScale": 0,
   "maxScale": 0
  },
  {
   "id": 32,
   "name": "Aeroporto",
   "parentLayerId": 28,
   "defaultVisibility": true,
   "subLayerIds": null,
   "minScale": 0,
   "maxScale": 0
  },
  {
   "id": 33,
   "name": "Cemitério",
   "parentLayerId": 28,
   "defaultVisibility": true,
   "subLayerIds": null,
   "minScale": 0,
   "maxScale": 0
  },
  {
   "id": 34,
   "name": "Atrativo turístico",
   "parentLayerId": 28,
   "defaultVisibility": true,
   "subLayerIds": null,
   "minScale": 0,
   "maxScale": 0
  },
  {
   "id": 35,
   "name": "Estrutura Viária",
   "parentLayerId": 28,
   "defaultVisibility": true,
   "subLayerIds": null,
   "minScale": 0,
   "maxScale": 0
  },
  {
   "id": 36,
   "name": "Projeto Viário ",
   "parentLayerId": 28,
   "defaultVisibility": true,
   "subLayerIds": null,
   "minScale": 0,
   "maxScale": 0
  },
  {
   "id": 37,
   "name": "Logradouros",
   "parentLayerId": 28,
   "defaultVisibility": true,
   "subLayerIds": null,
   "minScale": 0,
   "maxScale": 0
  },
  {
   "id": 38,
   "name": "Bairros",
   "parentLayerId": 28,
   "defaultVisibility": true,
   "subLayerIds": null,
   "minScale": 0,
   "maxScale": 0
  },
  {
   "id": 39,
   "name": "Baía e Canal ",
   "parentLayerId": 28,
   "defaultVisibility": true,
   "subLayerIds": null,
   "minScale": 0,
   "maxScale": 0
  },
  {
   "id": 40,
   "name": "Parque e Área Protegida",
   "parentLayerId": 28,
   "defaultVisibility": true,
   "subLayerIds": null,
   "minScale": 0,
   "maxScale": 0
  },
  {
   "id": 41,
   "name": "Quadra",
   "parentLayerId": 28,
   "defaultVisibility": true,
   "subLayerIds": null,
   "minScale": 0,
   "maxScale": 0
  },
  {
   "id": 42,
   "name": "16K",
   "parentLayerId": -1,
   "defaultVisibility": true,
   "subLayerIds": [
    43,
    44,
    45,
    46,
    47,
    48
   ],
   "minScale": 16000,
   "maxScale": 8001
  },
  {
   "id": 43,
   "name": "Terminal Rodoviário/Aquaviário",
   "parentLayerId": 42,
   "defaultVisibility": true,
   "subLayerIds": null,
   "minScale": 0,
   "maxScale": 0
  },
  {
   "id": 44,
   "name": "Aeroporto",
   "parentLayerId": 42,
   "defaultVisibility": true,
   "subLayerIds": null,
   "minScale": 0,
   "maxScale": 0
  },
  {
   "id": 45,
   "name": "Logradouros",
   "parentLayerId": 42,
   "defaultVisibility": true,
   "subLayerIds": null,
   "minScale": 0,
   "maxScale": 0
  },
  {
   "id": 46,
   "name": "Bairros",
   "parentLayerId": 42,
   "defaultVisibility": true,
   "subLayerIds": null,
   "minScale": 0,
   "maxScale": 0
  },
  {
   "id": 47,
   "name": "Baía e Canal ",
   "parentLayerId": 42,
   "defaultVisibility": true,
   "subLayerIds": null,
   "minScale": 0,
   "maxScale": 0
  },
  {
   "id": 48,
   "name": "Parque e Área Protegida",
   "parentLayerId": 42,
   "defaultVisibility": true,
   "subLayerIds": null,
   "minScale": 0,
   "maxScale": 0
  },
  {
   "id": 49,
   "name": "32K",
   "parentLayerId": -1,
   "defaultVisibility": true,
   "subLayerIds": [
    50,
    51,
    52,
    53
   ],
   "minScale": 32000,
   "maxScale": 16001
  },
  {
   "id": 50,
   "name": "Logradouros",
   "parentLayerId": 49,
   "defaultVisibility": true,
   "subLayerIds": null,
   "minScale": 0,
   "maxScale": 0
  },
  {
   "id": 51,
   "name": "Bairros",
   "parentLayerId": 49,
   "defaultVisibility": true,
   "subLayerIds": null,
   "minScale": 0,
   "maxScale": 0
  },
  {
   "id": 52,
   "name": "Baía e Canal ",
   "parentLayerId": 49,
   "defaultVisibility": true,
   "subLayerIds": null,
   "minScale": 0,
   "maxScale": 0
  },
  {
   "id": 53,
   "name": "Parque e Área Protegida",
   "parentLayerId": 49,
   "defaultVisibility": true,
   "subLayerIds": null,
   "minScale": 0,
   "maxScale": 0
  },
  {
   "id": 54,
   "name": "64K",
   "parentLayerId": -1,
   "defaultVisibility": true,
   "subLayerIds": [
    55,
    56,
    57,
    58
   ],
   "minScale": 64000,
   "maxScale": 32001
  },
  {
   "id": 55,
   "name": "Logradouros",
   "parentLayerId": 54,
   "defaultVisibility": true,
   "subLayerIds": null,
   "minScale": 0,
   "maxScale": 0
  },
  {
   "id": 56,
   "name": "Bairros",
   "parentLayerId": 54,
   "defaultVisibility": true,
   "subLayerIds": null,
   "minScale": 0,
   "maxScale": 0
  },
  {
   "id": 57,
   "name": "Baía e Canal ",
   "parentLayerId": 54,
   "defaultVisibility": true,
   "subLayerIds": null,
   "minScale": 0,
   "maxScale": 0
  },
  {
   "id": 58,
   "name": "Parque e Área Protegida",
   "parentLayerId": 54,
   "defaultVisibility": true,
   "subLayerIds": null,
   "minScale": 0,
   "maxScale": 0
  },
  {
   "id": 59,
   "name": "125K",
   "parentLayerId": -1,
   "defaultVisibility": true,
   "subLayerIds": [
    60,
    61,
    62,
    63,
    64
   ],
   "minScale": 125000,
   "maxScale": 64001
  },
  {
   "id": 60,
   "name": "Logradouros",
   "parentLayerId": 59,
   "defaultVisibility": true,
   "subLayerIds": null,
   "minScale": 0,
   "maxScale": 0
  },
  {
   "id": 61,
   "name": "Bairros",
   "parentLayerId": 59,
   "defaultVisibility": true,
   "subLayerIds": null,
   "minScale": 0,
   "maxScale": 0
  },
  {
   "id": 62,
   "name": "Baía e Canal ",
   "parentLayerId": 59,
   "defaultVisibility": true,
   "subLayerIds": null,
   "minScale": 0,
   "maxScale": 0
  },
  {
   "id": 63,
   "name": "Parque e Área Protegida",
   "parentLayerId": 59,
   "defaultVisibility": true,
   "subLayerIds": null,
   "minScale": 0,
   "maxScale": 0
  },
  {
   "id": 64,
   "name": "RMGV",
   "parentLayerId": 59,
   "defaultVisibility": true,
   "subLayerIds": null,
   "minScale": 0,
   "maxScale": 0
  }
 ],
 "tables": [],
 "spatialReference": {
  "wkid": 31999,
  "latestWkid": 31999
 },
 "singleFusedMapCache": true,
 "tileInfo": {
  "rows": 256,
  "cols": 256,
  "dpi": 96,
  "format": "PNG",
  "compressionQuality": 0,
  "origin": {
   "x": -5120900,
   "y": 19998100
  },
  "spatialReference": {
   "wkid": 31999,
   "latestWkid": 31999
  },
  "lods": [
   {
    "level": 0,
    "resolution": 33.0729828126323,
    "scale": 125000
   },
   {
    "level": 1,
    "resolution": 16.933367200067735,
    "scale": 64000
   },
   {
    "level": 2,
    "resolution": 8.466683600033868,
    "scale": 32000
   },
   {
    "level": 3,
    "resolution": 4.233341800016934,
    "scale": 16000
   },
   {
    "level": 4,
    "resolution": 2.116670900008467,
    "scale": 8000
   },
   {
    "level": 5,
    "resolution": 1.0583354500042335,
    "scale": 4000
   },
   {
    "level": 6,
    "resolution": 0.5291677250021167,
    "scale": 2000
   },
   {
    "level": 7,
    "resolution": 0.26458386250105836,
    "scale": 1000
   }
  ]
 },
 "initialExtent": {
  "xmin": 356482.9168649975,
  "ymin": 7754965.784528195,
  "xmax": 375685.35526987433,
  "ymax": 7764600.870465034,
  "spatialReference": {
   "wkid": 31999,
   "latestWkid": 31999
  }
 },
 "fullExtent": {
  "xmin": 352854.51130000036,
  "ymin": 7749370.3781,
  "xmax": 378862.8208999997,
  "ymax": 7766487.9437,
  "spatialReference": {
   "wkid": 31999,
   "latestWkid": 31999
  }
 },
 "minScale": 125000,
 "maxScale": 500,
 "units": "esriMeters",
 "supportedImageFormatTypes": "PNG32,PNG24,PNG,JPG,DIB,TIFF,EMF,PS,PDF,GIF,SVG,SVGZ,BMP",
 "documentInfo": {
  "Title": "Mapa Base",
  "Author": "SEMFA/GEO",
  "Comments": "Mapa Base para ser utilizado nas aplicações.",
  "Subject": "Mapa Base para ser utilizado nas aplicações.",
  "Category": "",
  "AntialiasingMode": "Fast",
  "TextAntialiasingMode": "Force",
  "Keywords": "Ponto Vitória,Externo,Geocontrol,Mapa Base"
 },
 "capabilities": "Map,Query,Data",
 "supportedQueryFormats": "JSON, AMF",
 "exportTilesAllowed": false,
 "maxRecordCount": 1000,
 "maxImageHeight": 4096,
 "maxImageWidth": 4096,
 "supportedExtensions": "WMSServer"
}
