{
 "currentVersion": 10.31,
 "serviceDescription": "Serviço de imagem do Mosaico 1955. Possui 35cm de resolução espacial.",
 "name": "Imagens/Mosaico1955",
 "description": "Serviço de imagem do Mosaico 1955. Possui 35cm de resolução espacial.",
 "extent": {
  "xmin": 353556.0844546267,
  "ymin": 7751166.544159519,
  "xmax": 372269.6783468726,
  "ymax": 7761560.104339628,
  "spatialReference": {
   "wkt": "PROJCS[\"UTM_Zone_24_Southern_Hemisphere\",GEOGCS[\"GCS_SIRGAS_2000\",DATUM[\"D_SIRGAS_2000\",SPHEROID[\"GRS_1980\",6378137.0,298.257222101]],PRIMEM[\"Greenwich\",0.0],UNIT[\"Degree\",0.0174532925199433]],PROJECTION[\"Transverse_Mercator\"],PARAMETER[\"false_easting\",500000.0],PARAMETER[\"false_northing\",10000000.0],PARAMETER[\"central_meridian\",-39.0],PARAMETER[\"scale_factor\",0.9996],PARAMETER[\"latitude_of_origin\",0.0],UNIT[\"Meter\",1.0]]"
  }
 },
 "initialExtent": {
  "xmin": 353556.0844546267,
  "ymin": 7751166.544159519,
  "xmax": 372269.6783468726,
  "ymax": 7761560.104339628,
  "spatialReference": {
   "wkt": "PROJCS[\"UTM_Zone_24_Southern_Hemisphere\",GEOGCS[\"GCS_SIRGAS_2000\",DATUM[\"D_SIRGAS_2000\",SPHEROID[\"GRS_1980\",6378137.0,298.257222101]],PRIMEM[\"Greenwich\",0.0],UNIT[\"Degree\",0.0174532925199433]],PROJECTION[\"Transverse_Mercator\"],PARAMETER[\"false_easting\",500000.0],PARAMETER[\"false_northing\",10000000.0],PARAMETER[\"central_meridian\",-39.0],PARAMETER[\"scale_factor\",0.9996],PARAMETER[\"latitude_of_origin\",0.0],UNIT[\"Meter\",1.0]]"
  }
 },
 "fullExtent": {
  "xmin": 353556.0844546267,
  "ymin": 7751166.544159519,
  "xmax": 372269.6783468726,
  "ymax": 7761560.104339628,
  "spatialReference": {
   "wkt": "PROJCS[\"UTM_Zone_24_Southern_Hemisphere\",GEOGCS[\"GCS_SIRGAS_2000\",DATUM[\"D_SIRGAS_2000\",SPHEROID[\"GRS_1980\",6378137.0,298.257222101]],PRIMEM[\"Greenwich\",0.0],UNIT[\"Degree\",0.0174532925199433]],PROJECTION[\"Transverse_Mercator\"],PARAMETER[\"false_easting\",500000.0],PARAMETER[\"false_northing\",10000000.0],PARAMETER[\"central_meridian\",-39.0],PARAMETER[\"scale_factor\",0.9996],PARAMETER[\"latitude_of_origin\",0.0],UNIT[\"Meter\",1.0]]"
  }
 },
 "pixelSizeX": 0.3503827799106125,
 "pixelSizeY": 0.3503880315581362,
 "bandCount": 1,
 "pixelType": "U16",
 "minPixelSize": 0.26458386250105836,
 "maxPixelSize": 33.0729828126323,
 "copyrightText": "SEMFA/GEO",
 "serviceDataType": "esriImageServiceDataTypeGeneric",
 "minValues": [
  1
 ],
 "maxValues": [
  65535
 ],
 "meanValues": [
  21264.102928381
 ],
 "stdvValues": [
  10793.949979709
 ],
 "objectIdField": "",
 "fields": [],
 "capabilities": "Image,Metadata,Mensuration",
 "defaultMosaicMethod": "Center",
 "allowedMosaicMethods": "",
 "sortField": "",
 "sortValue": null,
 "mosaicOperator": "First",
 "defaultCompressionQuality": 75,
 "defaultResamplingMethod": "Bilinear",
 "maxImageHeight": 4100,
 "maxImageWidth": 15000,
 "singleFusedMapCache": true,
 "tileInfo": {
  "rows": 256,
  "cols": 256,
  "dpi": 96,
  "format": "PNG8",
  "compressionQuality": 0,
  "origin": {
   "x": -5120900,
   "y": 19998100
  },
  "spatialReference": {
   "wkt": "PROJCS[\"UTM_Zone_24_Southern_Hemisphere\",GEOGCS[\"GCS_SIRGAS_2000\",DATUM[\"D_SIRGAS_2000\",SPHEROID[\"GRS_1980\",6378137.0,298.257222101]],PRIMEM[\"Greenwich\",0.0],UNIT[\"Degree\",0.0174532925199433]],PROJECTION[\"Transverse_Mercator\"],PARAMETER[\"false_easting\",500000.0],PARAMETER[\"false_northing\",10000000.0],PARAMETER[\"central_meridian\",-39.0],PARAMETER[\"scale_factor\",0.9996],PARAMETER[\"latitude_of_origin\",0.0],UNIT[\"Meter\",1.0]]"
  },
  "lods": [
   {
    "level": 0,
    "resolution": 33.0729828126323,
    "scale": 125000
   },
   {
    "level": 1,
    "resolution": 16.933367200067735,
    "scale": 64000
   },
   {
    "level": 2,
    "resolution": 8.466683600033868,
    "scale": 32000
   },
   {
    "level": 3,
    "resolution": 4.233341800016934,
    "scale": 16000
   },
   {
    "level": 4,
    "resolution": 2.116670900008467,
    "scale": 8000
   },
   {
    "level": 5,
    "resolution": 1.0583354500042335,
    "scale": 4000
   },
   {
    "level": 6,
    "resolution": 0.5291677250021167,
    "scale": 2000
   },
   {
    "level": 7,
    "resolution": 0.26458386250105836,
    "scale": 1000
   }
  ]
 },
 "cacheType": "Map",
 "allowRasterFunction": true,
 "rasterFunctionInfos": [],
 "rasterTypeInfos": [
  {
   "name": "Raster Dataset",
   "description": "Supports all ArcGIS Raster Datasets",
   "help": ""
  }
 ],
 "mensurationCapabilities": "Basic",
 "hasHistograms": true,
 "hasColormap": false,
 "hasRasterAttributeTable": true,
 "minScale": 125000,
 "maxScale": 1000,
 "exportTilesAllowed": false,
 "hasMultidimensions": false,
 "supportsStatistics": false,
 "supportsAdvancedQueries": false,
 "editFieldsInfo": null,
 "ownershipBasedAccessControlForRasters": null,
 "allowComputeTiePoints": false,
 "useStandardizedQueries": false,
 "advancedQueryCapabilities": {
  "useStandardizedQueries": false,
  "supportsStatistics": false,
  "supportsOrderBy": false,
  "supportsDistinct": false,
  "supportsPagination": false
 },
 "spatialReference": {
  "wkt": "PROJCS[\"UTM_Zone_24_Southern_Hemisphere\",GEOGCS[\"GCS_SIRGAS_2000\",DATUM[\"D_SIRGAS_2000\",SPHEROID[\"GRS_1980\",6378137.0,298.257222101]],PRIMEM[\"Greenwich\",0.0],UNIT[\"Degree\",0.0174532925199433]],PROJECTION[\"Transverse_Mercator\"],PARAMETER[\"false_easting\",500000.0],PARAMETER[\"false_northing\",10000000.0],PARAMETER[\"central_meridian\",-39.0],PARAMETER[\"scale_factor\",0.9996],PARAMETER[\"latitude_of_origin\",0.0],UNIT[\"Meter\",1.0]]"
 }
}
