{
 "currentVersion": 10.31,
 "serviceDescription": "Serviço de Imagem com dados provenientes do Veracidade. 1m de resolução espacial.",
 "name": "Imagens/Mosaico1998",
 "description": "Serviço de Imagem com dados provenientes do Veracidade. 1m de resolução espacial.",
 "extent": {
  "xmin": 347385.468617789,
  "ymin": 7725953.633295816,
  "xmax": 377966.468617789,
  "ymax": 7785954.633295816,
  "spatialReference": {
   "wkid": 32724,
   "latestWkid": 32724
  }
 },
 "initialExtent": {
  "xmin": 347385.468617789,
  "ymin": 7725953.633295816,
  "xmax": 377966.468617789,
  "ymax": 7785954.633295816,
  "spatialReference": {
   "wkid": 32724,
   "latestWkid": 32724
  }
 },
 "fullExtent": {
  "xmin": 347385.468617789,
  "ymin": 7725953.633295816,
  "xmax": 377966.468617789,
  "ymax": 7785954.633295816,
  "spatialReference": {
   "wkid": 32724,
   "latestWkid": 32724
  }
 },
 "pixelSizeX": 1,
 "pixelSizeY": 1,
 "bandCount": 3,
 "pixelType": "U8",
 "minPixelSize": 0.25400050800101603,
 "maxPixelSize": 31.750063500127006,
 "copyrightText": "",
 "serviceDataType": "esriImageServiceDataTypeRGB",
 "minValues": [
  0,
  0,
  0
 ],
 "maxValues": [
  255,
  255,
  255
 ],
 "meanValues": [
  38.906212484994,
  42.173531912765,
  36.66222546711
 ],
 "stdvValues": [
  60.456254587535,
  59.279645322202,
  51.722731803751
 ],
 "objectIdField": "",
 "fields": [],
 "capabilities": "Mensuration,Image,Metadata",
 "defaultMosaicMethod": "Center",
 "allowedMosaicMethods": "",
 "sortField": "",
 "sortValue": null,
 "mosaicOperator": "First",
 "defaultCompressionQuality": 75,
 "defaultResamplingMethod": "Bilinear",
 "maxImageHeight": 4100,
 "maxImageWidth": 15000,
 "singleFusedMapCache": true,
 "tileInfo": {
  "rows": 256,
  "cols": 256,
  "dpi": 200,
  "format": "PNG24",
  "compressionQuality": 0,
  "origin": {
   "x": -5120900,
   "y": 19998100
  },
  "spatialReference": {
   "wkid": 32724,
   "latestWkid": 32724
  },
  "lods": [
   {
    "level": 0,
    "resolution": 31.750063500127006,
    "scale": 250000
   },
   {
    "level": 1,
    "resolution": 15.875031750063503,
    "scale": 125000
   },
   {
    "level": 2,
    "resolution": 8.128016256032513,
    "scale": 64000
   },
   {
    "level": 3,
    "resolution": 4.0640081280162565,
    "scale": 32000
   },
   {
    "level": 4,
    "resolution": 2.0320040640081283,
    "scale": 16000
   },
   {
    "level": 5,
    "resolution": 1.0160020320040641,
    "scale": 8000
   },
   {
    "level": 6,
    "resolution": 0.5080010160020321,
    "scale": 4000
   },
   {
    "level": 7,
    "resolution": 0.25400050800101603,
    "scale": 2000
   }
  ]
 },
 "cacheType": "Map",
 "allowRasterFunction": true,
 "rasterFunctionInfos": [],
 "rasterTypeInfos": [
  {
   "name": "Raster Dataset",
   "description": "Supports all ArcGIS Raster Datasets",
   "help": ""
  }
 ],
 "mensurationCapabilities": "Basic",
 "hasHistograms": true,
 "hasColormap": false,
 "hasRasterAttributeTable": false,
 "minScale": 250000,
 "maxScale": 2000,
 "exportTilesAllowed": false,
 "hasMultidimensions": false,
 "supportsStatistics": false,
 "supportsAdvancedQueries": false,
 "editFieldsInfo": null,
 "ownershipBasedAccessControlForRasters": null,
 "allowComputeTiePoints": false,
 "useStandardizedQueries": false,
 "advancedQueryCapabilities": {
  "useStandardizedQueries": false,
  "supportsStatistics": false,
  "supportsOrderBy": false,
  "supportsDistinct": false,
  "supportsPagination": false
 },
 "spatialReference": {
  "wkid": 32724,
  "latestWkid": 32724
 }
}
