{
 "currentVersion": 10.31,
 "serviceDescription": "Mosaico 2003. 1m de resolução espacial.",
 "name": "Imagens/Mosaico2003",
 "description": "Mosaico 2003. 1m de resolução espacial.",
 "extent": {
  "xmin": 357965.52446510666,
  "ymin": 7751961.357191971,
  "xmax": 372965.4837962397,
  "ymax": 7761963.333042355,
  "spatialReference": {
   "wkid": 31984,
   "latestWkid": 31984
  }
 },
 "initialExtent": {
  "xmin": 357965.52446510666,
  "ymin": 7751961.357191971,
  "xmax": 372965.4837962397,
  "ymax": 7761963.333042355,
  "spatialReference": {
   "wkid": 31984,
   "latestWkid": 31984
  }
 },
 "fullExtent": {
  "xmin": 357965.52446510666,
  "ymin": 7751961.357191971,
  "xmax": 372965.4837962397,
  "ymax": 7761963.333042355,
  "spatialReference": {
   "wkid": 31984,
   "latestWkid": 31984
  }
 },
 "pixelSizeX": 0.9999972887422036,
 "pixelSizeY": 0.999997585521364,
 "bandCount": 3,
 "pixelType": "S16",
 "minPixelSize": 0.12700025400050802,
 "maxPixelSize": 15.875031750063503,
 "copyrightText": "",
 "serviceDataType": "esriImageServiceDataTypeGeneric",
 "minValues": [
  0,
  0,
  0
 ],
 "maxValues": [
  254,
  254,
  254
 ],
 "meanValues": [
  105.89327152046,
  151.52193277453,
  122.52595642013
 ],
 "stdvValues": [
  51.982852006015,
  41.141274687907,
  44.936909918823
 ],
 "objectIdField": "",
 "fields": [],
 "capabilities": "Mensuration,Image,Metadata",
 "defaultMosaicMethod": "Center",
 "allowedMosaicMethods": "",
 "sortField": "",
 "sortValue": null,
 "mosaicOperator": "First",
 "defaultCompressionQuality": 75,
 "defaultResamplingMethod": "Bilinear",
 "maxImageHeight": 4100,
 "maxImageWidth": 15000,
 "singleFusedMapCache": true,
 "tileInfo": {
  "rows": 256,
  "cols": 256,
  "dpi": 200,
  "format": "PNG24",
  "compressionQuality": 0,
  "origin": {
   "x": -5120900,
   "y": 19998100
  },
  "spatialReference": {
   "wkid": 31984,
   "latestWkid": 31984
  },
  "lods": [
   {
    "level": 0,
    "resolution": 15.875031750063503,
    "scale": 125000
   },
   {
    "level": 1,
    "resolution": 8.128016256032513,
    "scale": 64000
   },
   {
    "level": 2,
    "resolution": 4.0640081280162565,
    "scale": 32000
   },
   {
    "level": 3,
    "resolution": 2.0320040640081283,
    "scale": 16000
   },
   {
    "level": 4,
    "resolution": 1.0160020320040641,
    "scale": 8000
   },
   {
    "level": 5,
    "resolution": 0.5080010160020321,
    "scale": 4000
   },
   {
    "level": 6,
    "resolution": 0.25400050800101603,
    "scale": 2000
   },
   {
    "level": 7,
    "resolution": 0.12700025400050802,
    "scale": 1000
   }
  ]
 },
 "cacheType": "Map",
 "allowRasterFunction": true,
 "rasterFunctionInfos": [],
 "rasterTypeInfos": [
  {
   "name": "Raster Dataset",
   "description": "Supports all ArcGIS Raster Datasets",
   "help": ""
  }
 ],
 "mensurationCapabilities": "Basic",
 "hasHistograms": true,
 "hasColormap": false,
 "hasRasterAttributeTable": false,
 "minScale": 125000,
 "maxScale": 1000,
 "exportTilesAllowed": false,
 "hasMultidimensions": false,
 "supportsStatistics": false,
 "supportsAdvancedQueries": false,
 "editFieldsInfo": null,
 "ownershipBasedAccessControlForRasters": null,
 "allowComputeTiePoints": false,
 "useStandardizedQueries": false,
 "advancedQueryCapabilities": {
  "useStandardizedQueries": false,
  "supportsStatistics": false,
  "supportsOrderBy": false,
  "supportsDistinct": false,
  "supportsPagination": false
 },
 "spatialReference": {
  "wkid": 31984,
  "latestWkid": 31984
 }
}
