{
 "currentVersion": 10.31,
 "serviceDescription": "Mosaico de Vitória proveniente da restituição de 2007. 10 cm de resolução espacial.",
 "name": "Imagens/Mosaico2007",
 "description": "Mosaico de Vitória proveniente da restituição de 2007. 10 cm de resolução espacial.",
 "extent": {
  "xmin": 357480.95,
  "ymin": 7751477.148,
  "xmax": 373329.95,
  "ymax": 7761709.448,
  "spatialReference": {
   "wkid": 31999,
   "latestWkid": 31999
  }
 },
 "initialExtent": {
  "xmin": 357480.95,
  "ymin": 7751477.148,
  "xmax": 373329.95,
  "ymax": 7761709.448,
  "spatialReference": {
   "wkid": 31999,
   "latestWkid": 31999
  }
 },
 "fullExtent": {
  "xmin": 357480.95,
  "ymin": 7751477.148,
  "xmax": 373329.95,
  "ymax": 7761709.448,
  "spatialReference": {
   "wkid": 31999,
   "latestWkid": 31999
  }
 },
 "pixelSizeX": 0.1,
 "pixelSizeY": 0.09999999999999817,
 "bandCount": 3,
 "pixelType": "U8",
 "minPixelSize": 0.13229193125052918,
 "maxPixelSize": 33.0729828126323,
 "copyrightText": "",
 "serviceDataType": "esriImageServiceDataTypeRGB",
 "minValues": [
  0,
  0,
  0
 ],
 "maxValues": [
  255,
  255,
  255
 ],
 "meanValues": [
  175.80994774658,
  181.38599110966,
  166.05716697557
 ],
 "stdvValues": [
  68.801160895312,
  64.841927830932,
  73.145175681231
 ],
 "objectIdField": "",
 "fields": [],
 "capabilities": "Mensuration,Image,Metadata",
 "defaultMosaicMethod": "Center",
 "allowedMosaicMethods": "",
 "sortField": "",
 "sortValue": null,
 "mosaicOperator": "First",
 "defaultCompressionQuality": 75,
 "defaultResamplingMethod": "Bilinear",
 "maxImageHeight": 4100,
 "maxImageWidth": 15000,
 "singleFusedMapCache": true,
 "tileInfo": {
  "rows": 256,
  "cols": 256,
  "dpi": 96,
  "format": "PNG24",
  "compressionQuality": 0,
  "origin": {
   "x": -5120900,
   "y": 19998100
  },
  "spatialReference": {
   "wkid": 31999,
   "latestWkid": 31999
  },
  "lods": [
   {
    "level": 0,
    "resolution": 33.0729828126323,
    "scale": 125000
   },
   {
    "level": 1,
    "resolution": 16.933367200067735,
    "scale": 64000
   },
   {
    "level": 2,
    "resolution": 8.466683600033868,
    "scale": 32000
   },
   {
    "level": 3,
    "resolution": 4.233341800016934,
    "scale": 16000
   },
   {
    "level": 4,
    "resolution": 2.116670900008467,
    "scale": 8000
   },
   {
    "level": 5,
    "resolution": 1.0583354500042335,
    "scale": 4000
   },
   {
    "level": 6,
    "resolution": 0.5291677250021167,
    "scale": 2000
   },
   {
    "level": 7,
    "resolution": 0.26458386250105836,
    "scale": 1000
   },
   {
    "level": 8,
    "resolution": 0.13229193125052918,
    "scale": 500
   }
  ]
 },
 "cacheType": "Map",
 "allowRasterFunction": true,
 "rasterFunctionInfos": [],
 "rasterTypeInfos": [
  {
   "name": "Raster Dataset",
   "description": "Supports all ArcGIS Raster Datasets",
   "help": ""
  }
 ],
 "mensurationCapabilities": "Basic",
 "hasHistograms": true,
 "hasColormap": false,
 "hasRasterAttributeTable": false,
 "minScale": 125000,
 "maxScale": 500,
 "exportTilesAllowed": false,
 "hasMultidimensions": false,
 "supportsStatistics": false,
 "supportsAdvancedQueries": false,
 "editFieldsInfo": null,
 "ownershipBasedAccessControlForRasters": null,
 "allowComputeTiePoints": false,
 "useStandardizedQueries": false,
 "advancedQueryCapabilities": {
  "useStandardizedQueries": false,
  "supportsStatistics": false,
  "supportsOrderBy": false,
  "supportsDistinct": false,
  "supportsPagination": false
 },
 "spatialReference": {
  "wkid": 31999,
  "latestWkid": 31999
 }
}
