{
 "currentVersion": 10.31,
 "serviceDescription": "Imagem Raster Ortorretificada do Município e Vitória e entorno proveniente do IEMA. 1m de resolução espacial.",
 "name": "Imagens/Mosaico2008",
 "description": "Imagem Raster Ortorretificada do Município e Vitória e entorno proveniente do IEMA. 1m de resolução espacial.",
 "extent": {
  "xmin": 349999.5001217653,
  "ymin": 7739999.500191186,
  "xmax": 380000.5001217656,
  "ymax": 7770000.500191186,
  "spatialReference": {
   "wkt": "PROJCS[\"SIRGAS_2000_UTM_Zone_24S\",GEOGCS[\"GCS_SIRGAS_2000\",DATUM[\"D_Sistema_de_Referencia_Geocentrico_para_las_AmericaS_2000\",SPHEROID[\"GRS_1980\",6378137.0,298.257222101]],PRIMEM[\"Greenwich\",0.0],UNIT[\"Degree\",0.0174532925199433]],PROJECTION[\"Transverse_Mercator\"],PARAMETER[\"False_Easting\",500000.0],PARAMETER[\"False_Northing\",10000000.0],PARAMETER[\"Central_Meridian\",-39.0],PARAMETER[\"Scale_Factor\",0.9996],PARAMETER[\"Latitude_Of_Origin\",0.0],UNIT[\"Meter\",1.0]]"
  }
 },
 "initialExtent": {
  "xmin": 349999.5001217653,
  "ymin": 7739999.500191186,
  "xmax": 380000.5001217656,
  "ymax": 7770000.500191186,
  "spatialReference": {
   "wkt": "PROJCS[\"SIRGAS_2000_UTM_Zone_24S\",GEOGCS[\"GCS_SIRGAS_2000\",DATUM[\"D_Sistema_de_Referencia_Geocentrico_para_las_AmericaS_2000\",SPHEROID[\"GRS_1980\",6378137.0,298.257222101]],PRIMEM[\"Greenwich\",0.0],UNIT[\"Degree\",0.0174532925199433]],PROJECTION[\"Transverse_Mercator\"],PARAMETER[\"False_Easting\",500000.0],PARAMETER[\"False_Northing\",10000000.0],PARAMETER[\"Central_Meridian\",-39.0],PARAMETER[\"Scale_Factor\",0.9996],PARAMETER[\"Latitude_Of_Origin\",0.0],UNIT[\"Meter\",1.0]]"
  }
 },
 "fullExtent": {
  "xmin": 349999.5001217653,
  "ymin": 7739999.500191186,
  "xmax": 380000.5001217656,
  "ymax": 7770000.500191186,
  "spatialReference": {
   "wkt": "PROJCS[\"SIRGAS_2000_UTM_Zone_24S\",GEOGCS[\"GCS_SIRGAS_2000\",DATUM[\"D_Sistema_de_Referencia_Geocentrico_para_las_AmericaS_2000\",SPHEROID[\"GRS_1980\",6378137.0,298.257222101]],PRIMEM[\"Greenwich\",0.0],UNIT[\"Degree\",0.0174532925199433]],PROJECTION[\"Transverse_Mercator\"],PARAMETER[\"False_Easting\",500000.0],PARAMETER[\"False_Northing\",10000000.0],PARAMETER[\"Central_Meridian\",-39.0],PARAMETER[\"Scale_Factor\",0.9996],PARAMETER[\"Latitude_Of_Origin\",0.0],UNIT[\"Meter\",1.0]]"
  }
 },
 "pixelSizeX": 1,
 "pixelSizeY": 1,
 "bandCount": 3,
 "pixelType": "U8",
 "minPixelSize": 0.25400050800101603,
 "maxPixelSize": 31.750063500127006,
 "copyrightText": "",
 "serviceDataType": "esriImageServiceDataTypeRGB",
 "minValues": [
  0,
  0,
  0
 ],
 "maxValues": [
  255,
  255,
  255
 ],
 "meanValues": [
  53.645587150139,
  58.905604885335,
  47.718184505791
 ],
 "stdvValues": [
  52.553733813538,
  53.456834153459,
  43.197703298658
 ],
 "objectIdField": "",
 "fields": [],
 "capabilities": "Mensuration,Image,Metadata",
 "defaultMosaicMethod": "Center",
 "allowedMosaicMethods": "",
 "sortField": "",
 "sortValue": null,
 "mosaicOperator": "First",
 "defaultCompressionQuality": 75,
 "defaultResamplingMethod": "Bilinear",
 "maxImageHeight": 4100,
 "maxImageWidth": 15000,
 "singleFusedMapCache": true,
 "tileInfo": {
  "rows": 256,
  "cols": 256,
  "dpi": 200,
  "format": "PNG24",
  "compressionQuality": 0,
  "origin": {
   "x": -5120900,
   "y": 19998100
  },
  "spatialReference": {
   "wkt": "PROJCS[\"SIRGAS_2000_UTM_Zone_24S\",GEOGCS[\"GCS_SIRGAS_2000\",DATUM[\"D_Sistema_de_Referencia_Geocentrico_para_las_AmericaS_2000\",SPHEROID[\"GRS_1980\",6378137.0,298.257222101]],PRIMEM[\"Greenwich\",0.0],UNIT[\"Degree\",0.0174532925199433]],PROJECTION[\"Transverse_Mercator\"],PARAMETER[\"False_Easting\",500000.0],PARAMETER[\"False_Northing\",10000000.0],PARAMETER[\"Central_Meridian\",-39.0],PARAMETER[\"Scale_Factor\",0.9996],PARAMETER[\"Latitude_Of_Origin\",0.0],UNIT[\"Meter\",1.0]]"
  },
  "lods": [
   {
    "level": 0,
    "resolution": 31.750063500127006,
    "scale": 250000
   },
   {
    "level": 1,
    "resolution": 15.875031750063503,
    "scale": 125000
   },
   {
    "level": 2,
    "resolution": 8.128016256032513,
    "scale": 64000
   },
   {
    "level": 3,
    "resolution": 4.0640081280162565,
    "scale": 32000
   },
   {
    "level": 4,
    "resolution": 2.0320040640081283,
    "scale": 16000
   },
   {
    "level": 5,
    "resolution": 1.0160020320040641,
    "scale": 8000
   },
   {
    "level": 6,
    "resolution": 0.5080010160020321,
    "scale": 4000
   },
   {
    "level": 7,
    "resolution": 0.25400050800101603,
    "scale": 2000
   }
  ]
 },
 "cacheType": "Map",
 "allowRasterFunction": true,
 "rasterFunctionInfos": [],
 "rasterTypeInfos": [
  {
   "name": "Raster Dataset",
   "description": "Supports all ArcGIS Raster Datasets",
   "help": ""
  }
 ],
 "mensurationCapabilities": "Basic",
 "hasHistograms": true,
 "hasColormap": false,
 "hasRasterAttributeTable": false,
 "minScale": 250000,
 "maxScale": 2000,
 "exportTilesAllowed": false,
 "hasMultidimensions": false,
 "supportsStatistics": false,
 "supportsAdvancedQueries": false,
 "editFieldsInfo": null,
 "ownershipBasedAccessControlForRasters": null,
 "allowComputeTiePoints": false,
 "useStandardizedQueries": false,
 "advancedQueryCapabilities": {
  "useStandardizedQueries": false,
  "supportsStatistics": false,
  "supportsOrderBy": false,
  "supportsDistinct": false,
  "supportsPagination": false
 },
 "spatialReference": {
  "wkt": "PROJCS[\"SIRGAS_2000_UTM_Zone_24S\",GEOGCS[\"GCS_SIRGAS_2000\",DATUM[\"D_Sistema_de_Referencia_Geocentrico_para_las_AmericaS_2000\",SPHEROID[\"GRS_1980\",6378137.0,298.257222101]],PRIMEM[\"Greenwich\",0.0],UNIT[\"Degree\",0.0174532925199433]],PROJECTION[\"Transverse_Mercator\"],PARAMETER[\"False_Easting\",500000.0],PARAMETER[\"False_Northing\",10000000.0],PARAMETER[\"Central_Meridian\",-39.0],PARAMETER[\"Scale_Factor\",0.9996],PARAMETER[\"Latitude_Of_Origin\",0.0],UNIT[\"Meter\",1.0]]"
 }
}
