{
 "currentVersion": 10.31,
 "serviceDescription": "Orthomosaico de Vitória, adquirida no ano de 2023. 8cm de resolução espacial.",
 "mapName": "Layers",
 "description": "",
 "copyrightText": "SEMFA/GEO",
 "supportsDynamicLayers": true,
 "layers": [],
 "tables": [],
 "spatialReference": {
  "wkid": 31984,
  "latestWkid": 31984
 },
 "singleFusedMapCache": true,
 "tileInfo": {
  "rows": 256,
  "cols": 256,
  "dpi": 96,
  "format": "PNG",
  "compressionQuality": 0,
  "origin": {
   "x": -5120900,
   "y": 19998100
  },
  "spatialReference": {
   "wkid": 31984,
   "latestWkid": 31984
  },
  "lods": [
   {
    "level": 0,
    "resolution": 33072.9828126323,
    "scale": 125000000
   },
   {
    "level": 1,
    "resolution": 16933.367200067736,
    "scale": 64000000
   },
   {
    "level": 2,
    "resolution": 8466.683600033868,
    "scale": 32000000
   },
   {
    "level": 3,
    "resolution": 4233.341800016934,
    "scale": 16000000
   },
   {
    "level": 4,
    "resolution": 2116.670900008467,
    "scale": 8000000
   },
   {
    "level": 5,
    "resolution": 1058.3354500042335,
    "scale": 4000000
   },
   {
    "level": 6,
    "resolution": 529.1677250021168,
    "scale": 2000000
   },
   {
    "level": 7,
    "resolution": 264.5838625010584,
    "scale": 1000000
   },
   {
    "level": 8,
    "resolution": 0.13229193125052918,
    "scale": 500
   }
  ]
 },
 "initialExtent": {
  "xmin": 363619.8544777203,
  "ymin": 7755511.00346657,
  "xmax": 364974.5238537258,
  "ymax": 7756419.055282674,
  "spatialReference": {
   "wkid": 31984,
   "latestWkid": 31984
  }
 },
 "fullExtent": {
  "xmin": "NaN",
  "ymin": "NaN",
  "xmax": "NaN",
  "ymax": "NaN",
  "spatialReference": {
   "wkid": 31984,
   "latestWkid": 31984
  }
 },
 "minScale": 125000000,
 "maxScale": 500,
 "units": "esriMeters",
 "supportedImageFormatTypes": "PNG32,PNG24,PNG,JPG,DIB,TIFF,EMF,PS,PDF,GIF,SVG,SVGZ,BMP",
 "documentInfo": {
  "Title": "",
  "Author": "",
  "Comments": "Orthomosaico de Vitória, adquirida no ano de 2023. 8cm de resolução espacial.",
  "Subject": "Orthomosaico de Vitória, adquirida no ano de 2023. 8cm de resolução espacial.",
  "Category": "",
  "AntialiasingMode": "None",
  "TextAntialiasingMode": "Force",
  "Keywords": "ortho,mosaico"
 },
 "capabilities": "Map,Query,Data",
 "supportedQueryFormats": "JSON, AMF",
 "exportTilesAllowed": false,
 "maxRecordCount": 1000,
 "maxImageHeight": 4096,
 "maxImageWidth": 4096,
 "supportedExtensions": "WCSServer"
}
