View In:
ArcGIS JavaScript
ArcGIS Online map viewer
Google Earth
ArcMap
View Footprint In:
ArcGIS Online map viewer
Service Description: Serviço de Imagem com dados provenientes do Veracidade. 1m de resolução espacial.
Name: Imagens/Mosaico1978
Description: Serviço de Imagem com dados provenientes do Veracidade. 1m de resolução espacial.
Single Fused Map Cache: true
Tile Info:
- Height: 256
- Width: 256
- DPI: 200
-
Levels of Detail: 8
- Format: PNG24
- Compression Quality: 0.0
- LERC Error: NaN
- Origin:
X: -5120900.0
Y: 1.99981E7
- Spatial Reference:
32724
(32724)
Extent:
XMin: 350347.43867506523
YMin: 7722224.00403773
XMax: 379900.43867506523
YMax: 7786932.00403773
Spatial Reference:
32724
(32724)
Initial Extent:
XMin: 350347.43867506523
YMin: 7722224.00403773
XMax: 379900.43867506523
YMax: 7786932.00403773
Spatial Reference:
32724
(32724)
Full Extent:
XMin: 350347.43867506523
YMin: 7722224.00403773
XMax: 379900.43867506523
YMax: 7786932.00403773
Spatial Reference:
32724
(32724)
Pixel Size X: 1.0
Pixel Size Y: 1.0
Band Count: 3
Pixel Type: U8
RasterFunction Infos: N/A
Mensuration Capabilities: Basic
Has Histograms: true
Has Colormap: false
Has Multi Dimensions : false
Rendering Rule:
Min Scale: 250000
Max Scale: 2000
Copyright Text:
Service Data Type: esriImageServiceDataTypeRGB
Min Values: 0, 0, 0
Max Values: 255, 255, 255
Mean Values: 51.411788942245, 51.411787007887, 51.412011393366
Standard Deviation Values: 66.483784767609, 66.483789100228, 66.484082225613
Object ID Field:
Fields:
None
Default Mosaic Method: Center
Allowed Mosaic Methods:
SortField:
SortValue: null
Mosaic Operator: First
Default Compression Quality: 75
Default Resampling Method: Bilinear
Max Record Count: null
Max Image Height: 4100
Max Image Width: 15000
Max Download Image Count: null
Max Mosaic Image Count: null
Allow Raster Function: true
Allow Compute TiePoints: false
Supports Statistics: false
Supports Advanced Queries: false
Use StandardizedQueries: false
Raster Type Infos:
Name: Raster Dataset
Description: Supports all ArcGIS Raster Datasets
Help:
Has Raster Attribute Table: false
Edit Fields Info: null
Ownership Based AccessControl For Rasters: null
Child Resources:
Info
Histograms
Key Properties
Legend
MultiDimensionalInfo
rasterFunctionInfos
Supported Operations:
Export Image
Identify
Measure
Compute Histograms
Get Samples
Compute Class Statistics