View In:
ArcGIS JavaScript
ArcGIS Online map viewer
Google Earth
ArcMap
View Footprint In:
ArcGIS Online map viewer
Service Description: Serviço de imagem com dados provenientes do Veracidade. 25 cm de resolução.
Name: Imagens/Mosaico2012
Description: Serviço de imagem com dados provenientes do Veracidade. 25 cm de resolução.
Single Fused Map Cache: true
Tile Info:
- Height: 256
- Width: 256
- DPI: 200
-
Levels of Detail: 8
- Format: PNG32
- Compression Quality: 0.0
- LERC Error: NaN
- Origin:
X: -5120900.0
Y: 1.99981E7
- Spatial Reference:
31984
(31984)
Extent:
XMin: 357600
YMin: 7751200
XMax: 374600
YMax: 7762600
Spatial Reference:
31984
(31984)
Initial Extent:
XMin: 357600
YMin: 7751200
XMax: 374600
YMax: 7762600
Spatial Reference:
31984
(31984)
Full Extent:
XMin: 357600
YMin: 7751200
XMax: 374600
YMax: 7762600
Spatial Reference:
31984
(31984)
Pixel Size X: 0.25
Pixel Size Y: 0.25
Band Count: 3
Pixel Type: U8
RasterFunction Infos: N/A
Mensuration Capabilities: Basic
Has Histograms: true
Has Colormap: false
Has Multi Dimensions : false
Rendering Rule:
Min Scale: 125000
Max Scale: 1000
Copyright Text:
Service Data Type: esriImageServiceDataTypeRGB
Min Values: 0, 0, 0
Max Values: 255, 255, 255
Mean Values: 41.743935000967, 56.259671501548, 50.267338238519
Standard Deviation Values: 39.427510748557, 37.703081844629, 34.372474896256
Object ID Field:
Fields:
None
Default Mosaic Method: Center
Allowed Mosaic Methods:
SortField:
SortValue: null
Mosaic Operator: First
Default Compression Quality: 75
Default Resampling Method: Bilinear
Max Record Count: null
Max Image Height: 4100
Max Image Width: 15000
Max Download Image Count: null
Max Mosaic Image Count: null
Allow Raster Function: true
Allow Compute TiePoints: false
Supports Statistics: false
Supports Advanced Queries: false
Use StandardizedQueries: false
Raster Type Infos:
Name: Raster Dataset
Description: Supports all ArcGIS Raster Datasets
Help:
Has Raster Attribute Table: false
Edit Fields Info: null
Ownership Based AccessControl For Rasters: null
Child Resources:
Info
Histograms
Key Properties
Legend
MultiDimensionalInfo
rasterFunctionInfos
Supported Operations:
Export Image
Identify
Measure
Compute Histograms
Get Samples
Compute Class Statistics