View In:
ArcGIS JavaScript
ArcGIS Online map viewer
Google Earth
ArcMap
View Footprint In:
ArcGIS Online map viewer
Service Description: Imagem de Satélite Quickbird 2005. 50cm de resolução espacial.
Name: Imagens/Quickbird2005
Description: Imagem de Satélite Quickbird 2005. 50cm de resolução espacial.
Single Fused Map Cache: true
Tile Info:
- Height: 256
- Width: 256
- DPI: 200
-
Levels of Detail: 8
- Format: PNG24
- Compression Quality: 0.0
- LERC Error: NaN
- Origin:
X: -5120900.0
Y: 1.99981E7
- Spatial Reference:
31984
(31984)
Extent:
XMin: 355988.28087336646
YMin: 7750046.122358419
XMax: 368570.9573643663
YMax: 7760590.903987419
Spatial Reference:
31984
(31984)
Initial Extent:
XMin: 355988.28087336646
YMin: 7750046.122358419
XMax: 368570.9573643663
YMax: 7760590.903987419
Spatial Reference:
31984
(31984)
Full Extent:
XMin: 355988.28087336646
YMin: 7750046.122358419
XMax: 368570.9573643663
YMax: 7760590.903987419
Spatial Reference:
31984
(31984)
Pixel Size X: 0.4997289999999927
Pixel Size Y: 0.4997289999999933
Band Count: 3
Pixel Type: U32
RasterFunction Infos: N/A
Mensuration Capabilities: Basic
Has Histograms: true
Has Colormap: false
Has Multi Dimensions : false
Rendering Rule:
Min Scale: 125000
Max Scale: 1000
Copyright Text:
Service Data Type: esriImageServiceDataTypeGeneric
Min Values: 0, 0, 0
Max Values: 255, 255, 255
Mean Values: 95.079221134661, 103.61223301306, 92.181913716476
Standard Deviation Values: 50.595867443668, 53.262168907178, 56.546931675103
Object ID Field:
Fields:
None
Default Mosaic Method: Center
Allowed Mosaic Methods:
SortField:
SortValue: null
Mosaic Operator: First
Default Compression Quality: 75
Default Resampling Method: Bilinear
Max Record Count: null
Max Image Height: 4100
Max Image Width: 15000
Max Download Image Count: null
Max Mosaic Image Count: null
Allow Raster Function: true
Allow Compute TiePoints: false
Supports Statistics: false
Supports Advanced Queries: false
Use StandardizedQueries: false
Raster Type Infos:
Name: Raster Dataset
Description: Supports all ArcGIS Raster Datasets
Help:
Has Raster Attribute Table: false
Edit Fields Info: null
Ownership Based AccessControl For Rasters: null
Child Resources:
Info
Histograms
Key Properties
Legend
MultiDimensionalInfo
rasterFunctionInfos
Supported Operations:
Export Image
Identify
Measure
Compute Histograms
Get Samples
Compute Class Statistics