View In:
ArcGIS JavaScript
ArcGIS Online map viewer
Google Earth
ArcMap
View Footprint In:
ArcGIS Online map viewer
Service Description: Mosaico 2003. 1m de resolução espacial.
Name: Imagens/Mosaico2003
Description: Mosaico 2003. 1m de resolução espacial.
Single Fused Map Cache: true
Tile Info:
- Height: 256
- Width: 256
- DPI: 200
-
Levels of Detail: 8
- Format: PNG24
- Compression Quality: 0.0
- LERC Error: NaN
- Origin:
X: -5120900.0
Y: 1.99981E7
- Spatial Reference:
31984
(31984)
Extent:
XMin: 357965.52446510666
YMin: 7751961.357191971
XMax: 372965.4837962397
YMax: 7761963.333042355
Spatial Reference:
31984
(31984)
Initial Extent:
XMin: 357965.52446510666
YMin: 7751961.357191971
XMax: 372965.4837962397
YMax: 7761963.333042355
Spatial Reference:
31984
(31984)
Full Extent:
XMin: 357965.52446510666
YMin: 7751961.357191971
XMax: 372965.4837962397
YMax: 7761963.333042355
Spatial Reference:
31984
(31984)
Pixel Size X: 0.9999972887422036
Pixel Size Y: 0.999997585521364
Band Count: 3
Pixel Type: S16
RasterFunction Infos: N/A
Mensuration Capabilities: Basic
Has Histograms: true
Has Colormap: false
Has Multi Dimensions : false
Rendering Rule:
Min Scale: 125000
Max Scale: 1000
Copyright Text:
Service Data Type: esriImageServiceDataTypeGeneric
Min Values: 0, 0, 0
Max Values: 254, 254, 254
Mean Values: 105.89327152046, 151.52193277453, 122.52595642013
Standard Deviation Values: 51.982852006015, 41.141274687907, 44.936909918823
Object ID Field:
Fields:
None
Default Mosaic Method: Center
Allowed Mosaic Methods:
SortField:
SortValue: null
Mosaic Operator: First
Default Compression Quality: 75
Default Resampling Method: Bilinear
Max Record Count: null
Max Image Height: 4100
Max Image Width: 15000
Max Download Image Count: null
Max Mosaic Image Count: null
Allow Raster Function: true
Allow Compute TiePoints: false
Supports Statistics: false
Supports Advanced Queries: false
Use StandardizedQueries: false
Raster Type Infos:
Name: Raster Dataset
Description: Supports all ArcGIS Raster Datasets
Help:
Has Raster Attribute Table: false
Edit Fields Info: null
Ownership Based AccessControl For Rasters: null
Child Resources:
Info
Histograms
Key Properties
Legend
MultiDimensionalInfo
rasterFunctionInfos
Supported Operations:
Export Image
Identify
Measure
Compute Histograms
Get Samples
Compute Class Statistics