View In:
ArcGIS JavaScript
ArcGIS Online map viewer
Google Earth
ArcMap
View Footprint In:
ArcGIS Online map viewer
Service Description: Mosaico de Vitória proveniente da restituição de 2007. 10 cm de resolução espacial.
Name: Imagens/Mosaico2007
Description: Mosaico de Vitória proveniente da restituição de 2007. 10 cm de resolução espacial.
Single Fused Map Cache: true
Tile Info:
- Height: 256
- Width: 256
- DPI: 96
-
Levels of Detail: 9
- Format: PNG24
- Compression Quality: 0.0
- LERC Error: NaN
- Origin:
X: -5120900.0
Y: 1.99981E7
- Spatial Reference:
31999
(31999)
Extent:
XMin: 357480.95
YMin: 7751477.148
XMax: 373329.95
YMax: 7761709.448
Spatial Reference:
31999
(31999)
Initial Extent:
XMin: 357480.95
YMin: 7751477.148
XMax: 373329.95
YMax: 7761709.448
Spatial Reference:
31999
(31999)
Full Extent:
XMin: 357480.95
YMin: 7751477.148
XMax: 373329.95
YMax: 7761709.448
Spatial Reference:
31999
(31999)
Pixel Size X: 0.1
Pixel Size Y: 0.09999999999999817
Band Count: 3
Pixel Type: U8
RasterFunction Infos: N/A
Mensuration Capabilities: Basic
Has Histograms: true
Has Colormap: false
Has Multi Dimensions : false
Rendering Rule:
Min Scale: 125000
Max Scale: 500
Copyright Text:
Service Data Type: esriImageServiceDataTypeRGB
Min Values: 0, 0, 0
Max Values: 255, 255, 255
Mean Values: 175.80994774658, 181.38599110966, 166.05716697557
Standard Deviation Values: 68.801160895312, 64.841927830932, 73.145175681231
Object ID Field:
Fields:
None
Default Mosaic Method: Center
Allowed Mosaic Methods:
SortField:
SortValue: null
Mosaic Operator: First
Default Compression Quality: 75
Default Resampling Method: Bilinear
Max Record Count: null
Max Image Height: 4100
Max Image Width: 15000
Max Download Image Count: null
Max Mosaic Image Count: null
Allow Raster Function: true
Allow Compute TiePoints: false
Supports Statistics: false
Supports Advanced Queries: false
Use StandardizedQueries: false
Raster Type Infos:
Name: Raster Dataset
Description: Supports all ArcGIS Raster Datasets
Help:
Has Raster Attribute Table: false
Edit Fields Info: null
Ownership Based AccessControl For Rasters: null
Child Resources:
Info
Histograms
Key Properties
Legend
MultiDimensionalInfo
rasterFunctionInfos
Supported Operations:
Export Image
Identify
Measure
Compute Histograms
Get Samples
Compute Class Statistics